BEGIN:VCALENDAR
VERSION:2.0
PRODID:-//Plone.org//NONSGML plone.app.event//EN
X-WR-TIMEZONE:Europe/Brussels
BEGIN:VEVENT
SUMMARY:Conférence et journée d'études avec Étienne Balibar
DTSTART;TZID=Europe/Brussels;VALUE=DATE-TIME:20240307T170000
DTEND;TZID=Europe/Brussels;VALUE=DATE-TIME:20240308T170000
DTSTAMP;VALUE=DATE-TIME:20260420T035813Z
UID:bbf43d08963147f9983cd75cec576f37
CREATED;VALUE=DATE-TIME:20231218T145305Z
LAST-MODIFIED;VALUE=DATE-TIME:20240301T114456Z
LOCATION:Salle académique
URL:https://arcadie.unamur.be/events/conference-et-journee-detudes-avec-et
 ienne-balibar
END:VEVENT
BEGIN:VTIMEZONE
TZID:Europe/Brussels
X-LIC-LOCATION:Europe/Brussels
BEGIN:STANDARD
DTSTART;VALUE=DATE-TIME:20231029T020000
TZNAME:CET
TZOFFSETFROM:+0200
TZOFFSETTO:+0100
END:STANDARD
END:VTIMEZONE
END:VCALENDAR
